BEGIN:VCALENDAR
VERSION:2.0
PRODID:-//TTC Gürzenich e.V. - ECPv6.15.20//NONSGML v1.0//EN
CALSCALE:GREGORIAN
METHOD:PUBLISH
X-ORIGINAL-URL:https://www.ttc-guerzenich.de
X-WR-CALDESC:Veranstaltungen für TTC Gürzenich e.V.
REFRESH-INTERVAL;VALUE=DURATION:PT1H
X-Robots-Tag:noindex
X-PUBLISHED-TTL:PT1H
BEGIN:VTIMEZONE
TZID:Europe/Berlin
BEGIN:DAYLIGHT
TZOFFSETFROM:+0100
TZOFFSETTO:+0200
TZNAME:CEST
DTSTART:20250330T010000
END:DAYLIGHT
BEGIN:STANDARD
TZOFFSETFROM:+0200
TZOFFSETTO:+0100
TZNAME:CET
DTSTART:20251026T010000
END:STANDARD
BEGIN:DAYLIGHT
TZOFFSETFROM:+0100
TZOFFSETTO:+0200
TZNAME:CEST
DTSTART:20260329T010000
END:DAYLIGHT
BEGIN:STANDARD
TZOFFSETFROM:+0200
TZOFFSETTO:+0100
TZNAME:CET
DTSTART:20261025T010000
END:STANDARD
BEGIN:DAYLIGHT
TZOFFSETFROM:+0100
TZOFFSETTO:+0200
TZNAME:CEST
DTSTART:20270328T010000
END:DAYLIGHT
BEGIN:STANDARD
TZOFFSETFROM:+0200
TZOFFSETTO:+0100
TZNAME:CET
DTSTART:20271031T010000
END:STANDARD
END:VTIMEZONE
BEGIN:VEVENT
DTSTART;TZID=Europe/Berlin:20261205T180000
DTEND;TZID=Europe/Berlin:20261206T020000
DTSTAMP:20260419T203558
CREATED:20260111T130840Z
LAST-MODIFIED:20260111T130840Z
UID:10529-1796493600-1796522400@www.ttc-guerzenich.de
SUMMARY:Weihnachtsfeier
DESCRIPTION:
URL:https://www.ttc-guerzenich.de/event/weihnachtsfeier-4/
LOCATION:Haus für Gürzenich\, Papiermühle 13\, Düren\, 52349
END:VEVENT
BEGIN:VEVENT
DTSTART;TZID=Europe/Berlin:20261218T193000
DTEND;TZID=Europe/Berlin:20261218T233000
DTSTAMP:20260419T203558
CREATED:20260111T130916Z
LAST-MODIFIED:20260111T130916Z
UID:10531-1797622200-1797636600@www.ttc-guerzenich.de
SUMMARY:Weihnachtsturnier
DESCRIPTION:
URL:https://www.ttc-guerzenich.de/event/weihnachtsturnier-4/
END:VEVENT
END:VCALENDAR