BEGIN:VCALENDAR
VERSION:2.0
PRODID:-//TTC Gürzenich e.V. - ECPv6.15.20//NONSGML v1.0//EN
CALSCALE:GREGORIAN
METHOD:PUBLISH
X-WR-CALNAME:TTC Gürzenich e.V.
X-ORIGINAL-URL:https://www.ttc-guerzenich.de
X-WR-CALDESC:Veranstaltungen für TTC Gürzenich e.V.
REFRESH-INTERVAL;VALUE=DURATION:PT1H
X-Robots-Tag:noindex
X-PUBLISHED-TTL:PT1H
BEGIN:VTIMEZONE
TZID:Europe/Berlin
BEGIN:DAYLIGHT
TZOFFSETFROM:+0100
TZOFFSETTO:+0200
TZNAME:CEST
DTSTART:20230326T010000
END:DAYLIGHT
BEGIN:STANDARD
TZOFFSETFROM:+0200
TZOFFSETTO:+0100
TZNAME:CET
DTSTART:20231029T010000
END:STANDARD
BEGIN:DAYLIGHT
TZOFFSETFROM:+0100
TZOFFSETTO:+0200
TZNAME:CEST
DTSTART:20240331T010000
END:DAYLIGHT
BEGIN:STANDARD
TZOFFSETFROM:+0200
TZOFFSETTO:+0100
TZNAME:CET
DTSTART:20241027T010000
END:STANDARD
BEGIN:DAYLIGHT
TZOFFSETFROM:+0100
TZOFFSETTO:+0200
TZNAME:CEST
DTSTART:20250330T010000
END:DAYLIGHT
BEGIN:STANDARD
TZOFFSETFROM:+0200
TZOFFSETTO:+0100
TZNAME:CET
DTSTART:20251026T010000
END:STANDARD
END:VTIMEZONE
BEGIN:VEVENT
DTSTART;TZID=Europe/Berlin:20240503T193000
DTEND;TZID=Europe/Berlin:20240503T210000
DTSTAMP:20260420T215828
CREATED:20240503T080326Z
LAST-MODIFIED:20240503T080326Z
UID:9510-1714764600-1714770000@www.ttc-guerzenich.de
SUMMARY:Erwachsenentraining (angeleitet)
DESCRIPTION:
URL:https://www.ttc-guerzenich.de/event/erwachsenentraining-angeleitet/
END:VEVENT
BEGIN:VEVENT
DTSTART;TZID=Europe/Berlin:20240506T193000
DTEND;TZID=Europe/Berlin:20240506T210000
DTSTAMP:20260420T215828
CREATED:20240503T080727Z
LAST-MODIFIED:20240503T080727Z
UID:9518-1715023800-1715029200@www.ttc-guerzenich.de
SUMMARY:Trainingseinheit (angeleitet)
DESCRIPTION:
URL:https://www.ttc-guerzenich.de/event/trainingseinheit-angeleitet/
END:VEVENT
BEGIN:VEVENT
DTSTART;TZID=Europe/Berlin:20240510T193000
DTEND;TZID=Europe/Berlin:20240510T220000
DTSTAMP:20260420T215828
CREATED:20240503T080439Z
LAST-MODIFIED:20240503T080439Z
UID:9512-1715369400-1715378400@www.ttc-guerzenich.de
SUMMARY:Trainingsturnier (Schweizer System) Jugend+Erwachsene
DESCRIPTION:
URL:https://www.ttc-guerzenich.de/event/trainingsturnier-schweizer-system-jugenderwachsene/
END:VEVENT
BEGIN:VEVENT
DTSTART;TZID=Europe/Berlin:20240517T193000
DTEND;TZID=Europe/Berlin:20240517T193000
DTSTAMP:20260420T215828
CREATED:20220816T162537Z
LAST-MODIFIED:20240503T090727Z
UID:8882-1715974200-1715974200@www.ttc-guerzenich.de
SUMMARY:Vereinsmeisterschaften 2024 CLASSIC
DESCRIPTION:
URL:https://www.ttc-guerzenich.de/event/vereinsmeisterschaften-2022-classic/
END:VEVENT
BEGIN:VEVENT
DTSTART;TZID=Europe/Berlin:20240524T193000
DTEND;TZID=Europe/Berlin:20240524T193000
DTSTAMP:20260420T215828
CREATED:20220816T162359Z
LAST-MODIFIED:20240503T090659Z
UID:8878-1716579000-1716579000@www.ttc-guerzenich.de
SUMMARY:Vereinsmeisterschaften 2024 Herren A/B
DESCRIPTION:
URL:https://www.ttc-guerzenich.de/event/vereinsmeisterschaften-2022-herren-a-b/
END:VEVENT
BEGIN:VEVENT
DTSTART;VALUE=DATE:20240527
DTEND;VALUE=DATE:20240528
DTSTAMP:20260420T215828
CREATED:20220816T162606Z
LAST-MODIFIED:20230909T203419Z
UID:8884-1716768000-1716854399@www.ttc-guerzenich.de
SUMMARY:Spielersitzung
DESCRIPTION:
URL:https://www.ttc-guerzenich.de/event/spielersitzung/
END:VEVENT
END:VCALENDAR